BEGIN:VCALENDAR
VERSION:2.0
PRODID:-//CIGRE West Africa - ECPv6.0.1.1//NONSGML v1.0//EN
CALSCALE:GREGORIAN
METHOD:PUBLISH
X-WR-CALNAME:CIGRE West Africa
X-ORIGINAL-URL:https://cigre-wa.org
X-WR-CALDESC:Events for CIGRE West Africa
REFRESH-INTERVAL;VALUE=DURATION:PT1H
X-Robots-Tag:noindex
X-PUBLISHED-TTL:PT1H
BEGIN:VTIMEZONE
TZID:UTC
BEGIN:STANDARD
TZOFFSETFROM:+0000
TZOFFSETTO:+0000
TZNAME:UTC
DTSTART:20260101T000000
END:STANDARD
END:VTIMEZONE
BEGIN:VEVENT
DTSTART;TZID=UTC:20260409T080000
DTEND;TZID=UTC:20260409T170000
DTSTAMP:20260422T115156
CREATED:20260305T173857Z
LAST-MODIFIED:20260305T173941Z
UID:16387-1775721600-1775754000@cigre-wa.org
SUMMARY:eventEST
DESCRIPTION:
URL:https://cigre-wa.org/event/eventest/
ORGANIZER;CN="Jason%20Walker":MAILTO:info@example.com
END:VEVENT
END:VCALENDAR